BEGIN:VCALENDAR
VERSION:2.0
PRODID:-//Schützenverein Moisburg - Schießsport und Kameradschaft in Niedersachsen - ECPv6.0.12//NONSGML v1.0//EN
CALSCALE:GREGORIAN
METHOD:PUBLISH
X-WR-CALNAME:Schützenverein Moisburg - Schießsport und Kameradschaft in Niedersachsen
X-ORIGINAL-URL:https://schuetzenverein-moisburg.de
X-WR-CALDESC:Veranstaltungen für Schützenverein Moisburg - Schießsport und Kameradschaft in Niedersachsen
REFRESH-INTERVAL;VALUE=DURATION:PT1H
X-Robots-Tag:noindex
X-PUBLISHED-TTL:PT1H
BEGIN:VTIMEZONE
TZID:Europe/Berlin
BEGIN:DAYLIGHT
TZOFFSETFROM:+0100
TZOFFSETTO:+0200
TZNAME:CEST
DTSTART:20250330T010000
END:DAYLIGHT
BEGIN:STANDARD
TZOFFSETFROM:+0200
TZOFFSETTO:+0100
TZNAME:CET
DTSTART:20251026T010000
END:STANDARD
END:VTIMEZONE
BEGIN:VEVENT
DTSTART;TZID=Europe/Berlin:20250823T100000
DTEND;TZID=Europe/Berlin:20250823T100000
DTSTAMP:20260419T235956
CREATED:20250124T104612Z
LAST-MODIFIED:20250124T113734Z
UID:15871-1755943200-1755943200@schuetzenverein-moisburg.de
SUMMARY:Dorffest
DESCRIPTION:Dorffest
URL:https://schuetzenverein-moisburg.de/event/dorffest/
LOCATION:SV Hollenstedt\, Schützenholz 1\, Hollenstedt\, Niedersachsen\, 21279\, Germany
CATEGORIES:Termine
END:VEVENT
BEGIN:VEVENT
DTSTART;VALUE=DATE:20250826
DTEND;VALUE=DATE:20250829
DTSTAMP:20260419T235956
CREATED:20250328T101704Z
LAST-MODIFIED:20250328T101949Z
UID:15977-1756166400-1756425599@schuetzenverein-moisburg.de
SUMMARY:Pokalschießen
DESCRIPTION:Pokalschießen
URL:https://schuetzenverein-moisburg.de/event/pokalschiessen/
LOCATION:SV Moisburg\, Immenbecker Str. 23\, Moisburg\, Niedersachsen\, 21647\, Deutschland
CATEGORIES:Termine
ORGANIZER;CN="SV%20Moisburg":MAILTO:info@schuetzenverein-moisburg.de
END:VEVENT
BEGIN:VEVENT
DTSTART;TZID=Europe/Berlin:20250830T100000
DTEND;TZID=Europe/Berlin:20250830T100000
DTSTAMP:20260419T235956
CREATED:20250124T104613Z
LAST-MODIFIED:20250124T113734Z
UID:15872-1756548000-1756548000@schuetzenverein-moisburg.de
SUMMARY:Jubiläum SV Holvede
DESCRIPTION:Jubiläum SV Holvede
URL:https://schuetzenverein-moisburg.de/event/jubilaeum-sv-holvede/
LOCATION:SV Holvede\, Lemmermanns Weg\, Halvesbostel\, Niedersachsen\, 21646\, Germany
CATEGORIES:Termine
END:VEVENT
END:VCALENDAR