BEGIN:VCALENDAR
VERSION:2.0
PRODID:-//Schützenverein Moisburg - Schießsport und Kameradschaft in Niedersachsen - ECPv6.0.12//NONSGML v1.0//EN
CALSCALE:GREGORIAN
METHOD:PUBLISH
X-WR-CALNAME:Schützenverein Moisburg - Schießsport und Kameradschaft in Niedersachsen
X-ORIGINAL-URL:https://schuetzenverein-moisburg.de
X-WR-CALDESC:Veranstaltungen für Schützenverein Moisburg - Schießsport und Kameradschaft in Niedersachsen
REFRESH-INTERVAL;VALUE=DURATION:PT1H
X-Robots-Tag:noindex
X-PUBLISHED-TTL:PT1H
BEGIN:VTIMEZONE
TZID:Europe/Berlin
BEGIN:DAYLIGHT
TZOFFSETFROM:+0100
TZOFFSETTO:+0200
TZNAME:CEST
DTSTART:20250330T010000
END:DAYLIGHT
BEGIN:STANDARD
TZOFFSETFROM:+0200
TZOFFSETTO:+0100
TZNAME:CET
DTSTART:20251026T010000
END:STANDARD
END:VTIMEZONE
BEGIN:VEVENT
DTSTART;TZID=Europe/Berlin:20250406T103000
DTEND;TZID=Europe/Berlin:20250406T103000
DTSTAMP:20260422T133627
CREATED:20250124T104348Z
LAST-MODIFIED:20250124T113646Z
UID:15857-1743935400-1743935400@schuetzenverein-moisburg.de
SUMMARY:Senioren-Frühschoppen
DESCRIPTION:Senioren-Frühschoppen
URL:https://schuetzenverein-moisburg.de/event/senioren-fruehschoppen-2/
LOCATION:Niedersachsen
CATEGORIES:Termine
END:VEVENT
BEGIN:VEVENT
DTSTART;TZID=Europe/Berlin:20250417T193000
DTEND;TZID=Europe/Berlin:20250417T193000
DTSTAMP:20260422T133627
CREATED:20250124T104349Z
LAST-MODIFIED:20250124T113646Z
UID:15858-1744918200-1744918200@schuetzenverein-moisburg.de
SUMMARY:Mitgliederversammlung
DESCRIPTION:Mitgliederversammlung
URL:https://schuetzenverein-moisburg.de/event/mitgliederversammlung-3/
LOCATION:SV Moisburg\, Immenbecker Str. 23\, Moisburg\, Niedersachsen\, 21647\, Deutschland
CATEGORIES:Termine
ORGANIZER;CN="SV%20Moisburg":MAILTO:info@schuetzenverein-moisburg.de
END:VEVENT
END:VCALENDAR