BEGIN:VCALENDAR
VERSION:2.0
PRODID:-//Schützenverein Moisburg - Schießsport und Kameradschaft in Niedersachsen - ECPv6.0.12//NONSGML v1.0//EN
CALSCALE:GREGORIAN
METHOD:PUBLISH
X-WR-CALNAME:Schützenverein Moisburg - Schießsport und Kameradschaft in Niedersachsen
X-ORIGINAL-URL:https://schuetzenverein-moisburg.de
X-WR-CALDESC:Veranstaltungen für Schützenverein Moisburg - Schießsport und Kameradschaft in Niedersachsen
REFRESH-INTERVAL;VALUE=DURATION:PT1H
X-Robots-Tag:noindex
X-PUBLISHED-TTL:PT1H
BEGIN:VTIMEZONE
TZID:Europe/Berlin
BEGIN:DAYLIGHT
TZOFFSETFROM:+0100
TZOFFSETTO:+0200
TZNAME:CEST
DTSTART:20250330T010000
END:DAYLIGHT
BEGIN:STANDARD
TZOFFSETFROM:+0200
TZOFFSETTO:+0100
TZNAME:CET
DTSTART:20251026T010000
END:STANDARD
END:VTIMEZONE
BEGIN:VEVENT
DTSTART;TZID=Europe/Berlin:20251019T120000
DTEND;TZID=Europe/Berlin:20251019T120000
DTSTAMP:20260419T222731
CREATED:20250124T104833Z
LAST-MODIFIED:20250124T113815Z
UID:15881-1760875200-1760875200@schuetzenverein-moisburg.de
SUMMARY:Schießen der ehemaligen Könige und Vizekönige
DESCRIPTION:Schießen der ehemaligen Könige und Vizekönige
URL:https://schuetzenverein-moisburg.de/event/schiessen-der-ehemaligen-koenige-und-vizekoenige-3/
LOCATION:SV Sauensiek\, Amselstieg 8\, Sauensiek\, Niedersachsen\, 21644\, Germany
CATEGORIES:Termine
END:VEVENT
END:VCALENDAR