BEGIN:VCALENDAR
VERSION:2.0
PRODID:-//Schützenverein Moisburg - Schießsport und Kameradschaft in Niedersachsen - ECPv6.0.12//NONSGML v1.0//EN
CALSCALE:GREGORIAN
METHOD:PUBLISH
X-WR-CALNAME:Schützenverein Moisburg - Schießsport und Kameradschaft in Niedersachsen
X-ORIGINAL-URL:https://schuetzenverein-moisburg.de
X-WR-CALDESC:Veranstaltungen für Schützenverein Moisburg - Schießsport und Kameradschaft in Niedersachsen
REFRESH-INTERVAL;VALUE=DURATION:PT1H
X-Robots-Tag:noindex
X-PUBLISHED-TTL:PT1H
BEGIN:VTIMEZONE
TZID:Europe/Berlin
BEGIN:DAYLIGHT
TZOFFSETFROM:+0100
TZOFFSETTO:+0200
TZNAME:CEST
DTSTART:20250330T010000
END:DAYLIGHT
BEGIN:STANDARD
TZOFFSETFROM:+0200
TZOFFSETTO:+0100
TZNAME:CET
DTSTART:20251026T010000
END:STANDARD
END:VTIMEZONE
BEGIN:VEVENT
DTSTART;TZID=Europe/Berlin:20251011T190000
DTEND;TZID=Europe/Berlin:20251011T190000
DTSTAMP:20260419T222729
CREATED:20250124T104832Z
LAST-MODIFIED:20250124T113815Z
UID:15880-1760209200-1760209200@schuetzenverein-moisburg.de
SUMMARY:Kreiskönigsball in Tostedt
DESCRIPTION:Kreiskönigsball in Tostedt
URL:https://schuetzenverein-moisburg.de/event/kreiskoenigsball-in-tostedt-3/
LOCATION:Niedersachsen
CATEGORIES:Termine
END:VEVENT
END:VCALENDAR